Package: EDIRquery Version: 1.9.0 Command: /Library/Frameworks/R.framework/Resources/bin/R CMD build --keep-empty-dirs --no-resave-data EDIRquery StartedAt: 2025-10-24 16:58:06 -0400 (Fri, 24 Oct 2025) EndedAt: 2025-10-24 16:58:54 -0400 (Fri, 24 Oct 2025) EllapsedTime: 48.0 seconds RetCode: 0 Status: OK PackageFile: EDIRquery_1.9.0.tar.gz PackageFileSize: 1.376 MiB