Package: EDIRquery Version: 1.9.0 Command: rm -rf EDIRquery.buildbin-libdir && mkdir EDIRquery.buildbin-libdir && /Users/biocbuild/BBS/utils/build-universal.sh EDIRquery_1.9.0.tar.gz /Library/Frameworks/R.framework/Resources/bin/R EDIRquery.buildbin-libdir StartedAt: 2025-10-25 01:38:41 -0400 (Sat, 25 Oct 2025) EndedAt: 2025-10-25 01:39:18 -0400 (Sat, 25 Oct 2025) EllapsedTime: 37.0 seconds RetCode: 0 Status: OK PackageFile: EDIRquery_1.9.0.tgz PackageFileSize: 1.624 MiB