Package: EDASeq Version: 2.43.0 Command: /home/biocbuild/bbs-3.22-bioc/R/bin/R CMD INSTALL EDASeq StartedAt: 2025-10-24 16:02:59 -0400 (Fri, 24 Oct 2025) EndedAt: 2025-10-24 16:03:39 -0400 (Fri, 24 Oct 2025) EllapsedTime: 40.2 seconds RetCode: 0 Status: OK