Package: EDASeq Version: 2.43.0 Command: /home/biocbuild/bbs-3.22-bioc/R/bin/R CMD build --keep-empty-dirs --no-resave-data --md5 EDASeq StartedAt: 2025-10-24 17:37:10 -0400 (Fri, 24 Oct 2025) EndedAt: 2025-10-24 17:38:26 -0400 (Fri, 24 Oct 2025) EllapsedTime: 76.1 seconds RetCode: 0 Status: OK PackageFile: EDASeq_2.43.0.tar.gz PackageFileSize: 1.136 MiB