Package: EDASeq Version: 2.44.0 Command: /Library/Frameworks/R.framework/Resources/bin/R CMD INSTALL EDASeq StartedAt: 2025-10-30 15:27:19 -0400 (Thu, 30 Oct 2025) EndedAt: 2025-10-30 15:27:36 -0400 (Thu, 30 Oct 2025) EllapsedTime: 16.7 seconds RetCode: 0 Status: OK