Package: EDASeq Version: 2.44.0 Command: /Library/Frameworks/R.framework/Resources/bin/R CMD build --keep-empty-dirs --no-resave-data EDASeq StartedAt: 2025-10-29 22:39:42 -0400 (Wed, 29 Oct 2025) EndedAt: 2025-10-29 22:40:14 -0400 (Wed, 29 Oct 2025) EllapsedTime: 32.4 seconds RetCode: 0 Status: OK PackageFile: EDASeq_2.44.0.tar.gz PackageFileSize: 1.087 MiB