Package: EDASeq Version: 2.44.0 Command: rm -rf EDASeq.buildbin-libdir && mkdir EDASeq.buildbin-libdir && /Users/biocbuild/BBS/utils/build-universal.sh EDASeq_2.44.0.tar.gz /Library/Frameworks/R.framework/Resources/bin/R EDASeq.buildbin-libdir StartedAt: 2025-10-30 05:23:25 -0400 (Thu, 30 Oct 2025) EndedAt: 2025-10-30 05:23:43 -0400 (Thu, 30 Oct 2025) EllapsedTime: 18.4 seconds RetCode: 0 Status: OK PackageFile: EDASeq_2.44.0.tgz PackageFileSize: 1.333 MiB