Package: EBcoexpress Version: 1.53.0 Command: /home/biocbuild/bbs-3.22-bioc/R/bin/R CMD INSTALL EBcoexpress StartedAt: 2025-10-24 15:24:00 -0400 (Fri, 24 Oct 2025) EndedAt: 2025-10-24 15:24:07 -0400 (Fri, 24 Oct 2025) EllapsedTime: 6.2 seconds RetCode: 0 Status: OK