Package: EBarrays Version: 2.74.0 Command: /Library/Frameworks/R.framework/Resources/bin/R CMD check --install=check:EBarrays.install-out.txt --library=/Library/Frameworks/R.framework/Resources/library --no-vignettes --timings EBarrays_2.74.0.tar.gz StartedAt: 2025-10-31 20:59:40 -0400 (Fri, 31 Oct 2025) EndedAt: 2025-10-31 21:00:34 -0400 (Fri, 31 Oct 2025) EllapsedTime: 53.9 seconds RetCode: 0 Status: OK CheckDir: EBarrays.Rcheck Warnings: 0