Package: EBarrays Version: 2.73.0 Command: /Library/Frameworks/R.framework/Resources/bin/R CMD INSTALL EBarrays StartedAt: 2025-10-27 15:06:41 -0400 (Mon, 27 Oct 2025) EndedAt: 2025-10-27 15:06:44 -0400 (Mon, 27 Oct 2025) EllapsedTime: 2.9 seconds RetCode: 0 Status: OK