Package: EBarrays Version: 2.73.0 Command: rm -rf EBarrays.buildbin-libdir && mkdir EBarrays.buildbin-libdir && /Users/biocbuild/BBS/utils/build-universal.sh EBarrays_2.73.0.tar.gz /Library/Frameworks/R.framework/Resources/bin/R EBarrays.buildbin-libdir StartedAt: 2025-10-26 22:34:55 -0400 (Sun, 26 Oct 2025) EndedAt: 2025-10-26 22:34:58 -0400 (Sun, 26 Oct 2025) EllapsedTime: 3.1 seconds RetCode: 0 Status: OK PackageFile: EBarrays_2.73.0.tgz PackageFileSize: 1.27 MiB