Package: EBSeq Version: 2.7.0 Command: /home/biocbuild/bbs-3.22-bioc/R/bin/R CMD INSTALL EBSeq StartedAt: 2025-10-24 15:20:53 -0400 (Fri, 24 Oct 2025) EndedAt: 2025-10-24 15:21:25 -0400 (Fri, 24 Oct 2025) EllapsedTime: 32.1 seconds RetCode: 0 Status: OK