Package: EBSEA Version: 1.37.0 Command: /home/biocbuild/bbs-3.22-bioc/R/bin/R CMD build --keep-empty-dirs --no-resave-data --md5 EBSEA StartedAt: 2025-10-24 17:36:50 -0400 (Fri, 24 Oct 2025) EndedAt: 2025-10-24 17:37:29 -0400 (Fri, 24 Oct 2025) EllapsedTime: 39.0 seconds RetCode: 0 Status: OK PackageFile: EBSEA_1.37.0.tar.gz PackageFileSize: 51.93 KiB