Package: DynDoc Version: 1.87.0 Command: /home/biocbuild/R/R/bin/R CMD INSTALL DynDoc StartedAt: 2025-10-23 20:17:04 -0000 (Thu, 23 Oct 2025) EndedAt: 2025-10-23 20:17:21 -0000 (Thu, 23 Oct 2025) EllapsedTime: 17.1 seconds RetCode: 0 Status: OK