Package: DynDoc Version: 1.87.0 Command: /Library/Frameworks/R.framework/Resources/bin/R CMD INSTALL DynDoc StartedAt: 2025-10-24 15:12:30 -0400 (Fri, 24 Oct 2025) EndedAt: 2025-10-24 15:13:01 -0400 (Fri, 24 Oct 2025) EllapsedTime: 30.9 seconds RetCode: 0 Status: OK