Package: DynDoc Version: 1.87.0 Command: /Library/Frameworks/R.framework/Resources/bin/R CMD build --keep-empty-dirs --no-resave-data DynDoc StartedAt: 2025-10-24 16:57:04 -0400 (Fri, 24 Oct 2025) EndedAt: 2025-10-24 16:57:05 -0400 (Fri, 24 Oct 2025) EllapsedTime: 1.2 seconds RetCode: 0 Status: OK PackageFile: DynDoc_1.87.0.tar.gz PackageFileSize: 10.96 KiB