Package: DynDoc Version: 1.87.0 Command: rm -rf DynDoc.buildbin-libdir && mkdir DynDoc.buildbin-libdir && /Users/biocbuild/BBS/utils/build-universal.sh DynDoc_1.87.0.tar.gz /Library/Frameworks/R.framework/Resources/bin/R DynDoc.buildbin-libdir StartedAt: 2025-10-25 01:38:27 -0400 (Sat, 25 Oct 2025) EndedAt: 2025-10-25 01:38:33 -0400 (Sat, 25 Oct 2025) EllapsedTime: 5.9 seconds RetCode: 0 Status: OK PackageFile: DynDoc_1.87.0.tgz PackageFileSize: 218.1 KiB