Package: DuplexDiscovereR Version: 1.3.4 Command: /home/biocbuild/bbs-3.22-bioc/R/bin/R CMD INSTALL DuplexDiscovereR StartedAt: 2025-10-24 15:58:50 -0400 (Fri, 24 Oct 2025) EndedAt: 2025-10-24 16:00:16 -0400 (Fri, 24 Oct 2025) EllapsedTime: 86.2 seconds RetCode: 0 Status: OK