Package: DuplexDiscovereR Version: 1.3.4 Command: /Library/Frameworks/R.framework/Resources/bin/R CMD build --keep-empty-dirs --no-resave-data DuplexDiscovereR StartedAt: 2025-10-28 16:16:48 -0400 (Tue, 28 Oct 2025) EndedAt: 2025-10-28 16:17:48 -0400 (Tue, 28 Oct 2025) EllapsedTime: 59.6 seconds RetCode: 0 Status: OK PackageFile: DuplexDiscovereR_1.3.4.tar.gz PackageFileSize: 998.6 KiB