Package: DspikeIn Version: 0.99.29 Command: /home/biocbuild/bbs-3.22-bioc/R/bin/R CMD build --keep-empty-dirs --no-resave-data --md5 DspikeIn StartedAt: 2025-10-24 17:34:57 -0400 (Fri, 24 Oct 2025) EndedAt: 2025-10-24 17:39:41 -0400 (Fri, 24 Oct 2025) EllapsedTime: 284.3 seconds RetCode: 0 Status: OK PackageFile: DspikeIn_0.99.29.tar.gz PackageFileSize: 4.333 MiB