Package: DrugVsDisease Version: 2.52.0 Command: /home/biocbuild/bbs-3.22-bioc/R/bin/R CMD build --keep-empty-dirs --no-resave-data --md5 DrugVsDisease StartedAt: 2025-11-16 17:32:02 -0500 (Sun, 16 Nov 2025) EndedAt: 2025-11-16 17:32:38 -0500 (Sun, 16 Nov 2025) EllapsedTime: 36.0 seconds RetCode: 0 Status: OK PackageFile: DrugVsDisease_2.52.0.tar.gz PackageFileSize: 1.83 MiB