Package: DropletUtils Version: 1.29.7 Command: /home/biocbuild/bbs-3.22-bioc/R/bin/R CMD INSTALL DropletUtils StartedAt: 2025-10-24 15:46:27 -0400 (Fri, 24 Oct 2025) EndedAt: 2025-10-24 15:47:57 -0400 (Fri, 24 Oct 2025) EllapsedTime: 90.6 seconds RetCode: 0 Status: OK