Package: DropletUtils Version: 1.29.7 Command: /home/biocbuild/bbs-3.22-bioc/R/bin/R CMD check --install=check:DropletUtils.install-out.txt --library=/home/biocbuild/bbs-3.22-bioc/R/site-library --timings DropletUtils_1.29.7.tar.gz StartedAt: 2025-10-24 23:18:43 -0400 (Fri, 24 Oct 2025) EndedAt: 2025-10-24 23:25:15 -0400 (Fri, 24 Oct 2025) EllapsedTime: 392.4 seconds RetCode: 0 Status: WARNINGS CheckDir: DropletUtils.Rcheck Warnings: 1