Package: DropletUtils Version: 1.29.7 Command: /home/biocbuild/bbs-3.22-bioc/R/bin/R CMD build --keep-empty-dirs --no-resave-data --md5 DropletUtils StartedAt: 2025-10-24 17:34:37 -0400 (Fri, 24 Oct 2025) EndedAt: 2025-10-24 17:36:25 -0400 (Fri, 24 Oct 2025) EllapsedTime: 108.1 seconds RetCode: 0 Status: OK PackageFile: DropletUtils_1.29.7.tar.gz PackageFileSize: 594.8 KiB