Package: DropletUtils Version: 1.29.7 Command: /Library/Frameworks/R.framework/Resources/bin/R CMD INSTALL DropletUtils StartedAt: 2025-10-24 15:33:22 -0400 (Fri, 24 Oct 2025) EndedAt: 2025-10-24 15:35:05 -0400 (Fri, 24 Oct 2025) EllapsedTime: 102.9 seconds RetCode: 0 Status: OK