Package: DropletUtils Version: 1.29.7 Command: /Library/Frameworks/R.framework/Resources/bin/R CMD build --keep-empty-dirs --no-resave-data DropletUtils StartedAt: 2025-10-24 16:56:15 -0400 (Fri, 24 Oct 2025) EndedAt: 2025-10-24 16:58:10 -0400 (Fri, 24 Oct 2025) EllapsedTime: 115.6 seconds RetCode: 0 Status: OK PackageFile: DropletUtils_1.29.7.tar.gz PackageFileSize: 620 KiB