Package: DropletUtils Version: 1.29.7 Command: /Library/Frameworks/R.framework/Resources/bin/R CMD INSTALL DropletUtils StartedAt: 2025-10-24 15:18:44 -0400 (Fri, 24 Oct 2025) EndedAt: 2025-10-24 15:19:12 -0400 (Fri, 24 Oct 2025) EllapsedTime: 28.3 seconds RetCode: 0 Status: OK