Package: DriverNet Version: 1.50.0 Command: /home/biocbuild/bbs-3.22-bioc/R/bin/R CMD check --install=check:DriverNet.install-out.txt --library=/home/biocbuild/bbs-3.22-bioc/R/site-library --timings DriverNet_1.50.0.tar.gz StartedAt: 2025-11-02 23:25:14 -0500 (Sun, 02 Nov 2025) EndedAt: 2025-11-02 23:27:03 -0500 (Sun, 02 Nov 2025) EllapsedTime: 109.1 seconds RetCode: 0 Status: OK CheckDir: DriverNet.Rcheck Warnings: 0