Package: DriverNet Version: 1.49.0 Command: /Library/Frameworks/R.framework/Resources/bin/R CMD INSTALL DriverNet StartedAt: 2025-10-27 15:04:33 -0400 (Mon, 27 Oct 2025) EndedAt: 2025-10-27 15:05:18 -0400 (Mon, 27 Oct 2025) EllapsedTime: 44.3 seconds RetCode: 0 Status: OK