Package: DriverNet Version: 1.49.0 Command: /Library/Frameworks/R.framework/Resources/bin/R CMD build --keep-empty-dirs --no-resave-data DriverNet StartedAt: 2025-10-24 16:56:10 -0400 (Fri, 24 Oct 2025) EndedAt: 2025-10-24 16:56:56 -0400 (Fri, 24 Oct 2025) EllapsedTime: 45.9 seconds RetCode: 0 Status: OK PackageFile: DriverNet_1.49.0.tar.gz PackageFileSize: 1.116 MiB