Package: DriverNet Version: 1.49.0 Command: /Library/Frameworks/R.framework/Resources/bin/R CMD INSTALL DriverNet StartedAt: 2025-10-24 15:05:05 -0400 (Fri, 24 Oct 2025) EndedAt: 2025-10-24 15:05:15 -0400 (Fri, 24 Oct 2025) EllapsedTime: 9.8 seconds RetCode: 0 Status: OK