Package: DriverNet Version: 1.50.0 Maintainer: Jiarui Ding MaintainerEmail: jiaruid at cs.ubc.ca git_url: https://git.bioconductor.org/packages/DriverNet git_branch: RELEASE_3_22 git_last_commit: 45e670a git_last_commit_date: 2025-10-29 10:12:58 -0400 (Wed, 29 Oct 2025)