Package: Doscheda Version: 1.31.0 Command: /home/biocbuild/bbs-3.22-bioc/R/bin/R CMD INSTALL Doscheda StartedAt: 2025-10-24 15:24:09 -0400 (Fri, 24 Oct 2025) EndedAt: 2025-10-24 15:24:24 -0400 (Fri, 24 Oct 2025) EllapsedTime: 14.9 seconds RetCode: 0 Status: OK