Package: DominoEffect Version: 1.29.5 Command: /home/biocbuild/bbs-3.22-bioc/R/bin/R CMD INSTALL DominoEffect StartedAt: 2025-10-24 16:01:31 -0400 (Fri, 24 Oct 2025) EndedAt: 2025-10-24 16:02:12 -0400 (Fri, 24 Oct 2025) EllapsedTime: 40.6 seconds RetCode: 0 Status: OK