Package: DominoEffect Version: 1.29.5 Command: /home/biocbuild/bbs-3.22-bioc/R/bin/R CMD build --keep-empty-dirs --no-resave-data --md5 DominoEffect StartedAt: 2025-10-24 17:33:11 -0400 (Fri, 24 Oct 2025) EndedAt: 2025-10-24 17:34:27 -0400 (Fri, 24 Oct 2025) EllapsedTime: 76.1 seconds RetCode: 0 Status: OK PackageFile: DominoEffect_1.29.5.tar.gz PackageFileSize: 474.1 KiB