Package: DiscoRhythm Version: 1.25.0 Command: /home/biocbuild/bbs-3.22-bioc/R/bin/R CMD build --keep-empty-dirs --no-resave-data --md5 DiscoRhythm StartedAt: 2025-10-24 17:30:16 -0400 (Fri, 24 Oct 2025) EndedAt: 2025-10-24 17:31:01 -0400 (Fri, 24 Oct 2025) EllapsedTime: 45.0 seconds RetCode: 0 Status: OK PackageFile: DiscoRhythm_1.25.0.tar.gz PackageFileSize: 2.523 MiB