Package: DirichletMultinomial Version: 1.52.0 Command: /home/biocbuild/bbs-3.22-bioc/R/bin/R CMD check --install=check:DirichletMultinomial.install-out.txt --library=/home/biocbuild/bbs-3.22-bioc/R/site-library --timings DirichletMultinomial_1.52.0.tar.gz StartedAt: 2025-10-30 23:01:17 -0400 (Thu, 30 Oct 2025) EndedAt: 2025-10-30 23:02:15 -0400 (Thu, 30 Oct 2025) EllapsedTime: 58.0 seconds RetCode: 0 Status: WARNINGS CheckDir: DirichletMultinomial.Rcheck Warnings: 1