Package: DirichletMultinomial Version: 1.51.0 Command: /Library/Frameworks/R.framework/Resources/bin/R CMD INSTALL DirichletMultinomial StartedAt: 2025-10-24 15:24:12 -0400 (Fri, 24 Oct 2025) EndedAt: 2025-10-24 15:24:27 -0400 (Fri, 24 Oct 2025) EllapsedTime: 14.5 seconds RetCode: 0 Status: OK