Package: DirichletMultinomial Version: 1.51.0 Command: rm -rf DirichletMultinomial.buildbin-libdir && mkdir DirichletMultinomial.buildbin-libdir && /Users/biocbuild/BBS/utils/build-universal.sh DirichletMultinomial_1.51.0.tar.gz /Library/Frameworks/R.framework/Resources/bin/R DirichletMultinomial.buildbin-libdir StartedAt: 2025-10-25 01:37:27 -0400 (Sat, 25 Oct 2025) EndedAt: 2025-10-25 01:37:43 -0400 (Sat, 25 Oct 2025) EllapsedTime: 16.1 seconds RetCode: 0 Status: OK PackageFile: DirichletMultinomial_1.51.0.tgz PackageFileSize: 1.504 MiB