Package: DirichletMultinomial Version: 1.51.0 Command: /Library/Frameworks/R.framework/Resources/bin/R CMD INSTALL DirichletMultinomial StartedAt: 2025-10-26 15:07:45 -0400 (Sun, 26 Oct 2025) EndedAt: 2025-10-26 15:07:48 -0400 (Sun, 26 Oct 2025) EllapsedTime: 3.5 seconds RetCode: 0 Status: OK