Package: DirichletMultinomial Version: 1.51.0 Command: /Library/Frameworks/R.framework/Resources/bin/R CMD build --keep-empty-dirs --no-resave-data DirichletMultinomial StartedAt: 2025-10-27 16:14:04 -0400 (Mon, 27 Oct 2025) EndedAt: 2025-10-27 16:14:12 -0400 (Mon, 27 Oct 2025) EllapsedTime: 8.1 seconds RetCode: 0 Status: OK PackageFile: DirichletMultinomial_1.51.0.tar.gz PackageFileSize: 1.061 MiB