Package: Dino Version: 1.15.0 Command: /home/biocbuild/bbs-3.22-bioc/R/bin/R CMD INSTALL Dino StartedAt: 2025-10-27 15:58:15 -0400 (Mon, 27 Oct 2025) EndedAt: 2025-10-27 15:58:54 -0400 (Mon, 27 Oct 2025) EllapsedTime: 38.9 seconds RetCode: 0 Status: OK