Package: DifferentialRegulation Version: 2.7.0 Command: /Library/Frameworks/R.framework/Resources/bin/R CMD INSTALL DifferentialRegulation StartedAt: 2025-10-24 15:21:39 -0400 (Fri, 24 Oct 2025) EndedAt: 2025-10-24 15:21:57 -0400 (Fri, 24 Oct 2025) EllapsedTime: 18.0 seconds RetCode: 0 Status: OK