Package: DifferentialRegulation Version: 2.7.0 Command: /Library/Frameworks/R.framework/Resources/bin/R CMD build --keep-empty-dirs --no-resave-data DifferentialRegulation StartedAt: 2025-10-24 16:15:05 -0400 (Fri, 24 Oct 2025) EndedAt: 2025-10-24 16:16:15 -0400 (Fri, 24 Oct 2025) EllapsedTime: 69.7 seconds RetCode: 0 Status: OK PackageFile: DifferentialRegulation_2.7.0.tar.gz PackageFileSize: 2.821 MiB