Package: DifferentialRegulation Version: 2.8.0 Maintainer: Simone Tiberi MaintainerEmail: simone.tiberi at unibo.it git_url: https://git.bioconductor.org/packages/DifferentialRegulation git_branch: RELEASE_3_22 git_last_commit: 9d1063a git_last_commit_date: 2025-10-29 11:16:49 -0400 (Wed, 29 Oct 2025)