Package: DiffLogo Version: 2.34.0 Command: /home/biocbuild/R/R/bin/R CMD INSTALL DiffLogo StartedAt: 2025-11-20 21:46:28 -0000 (Thu, 20 Nov 2025) EndedAt: 2025-11-20 21:47:07 -0000 (Thu, 20 Nov 2025) EllapsedTime: 39.1 seconds RetCode: 0 Status: OK