Package: DiffLogo Version: 2.34.0 Command: /home/biocbuild/R/R/bin/R CMD build --keep-empty-dirs --no-resave-data DiffLogo StartedAt: 2025-11-21 01:53:56 -0000 (Fri, 21 Nov 2025) EndedAt: 2025-11-21 01:54:58 -0000 (Fri, 21 Nov 2025) EllapsedTime: 62.0 seconds RetCode: 0 Status: OK PackageFile: DiffLogo_2.34.0.tar.gz PackageFileSize: 913.3 KiB