Package: DiffLogo Version: 2.33.0 Command: /home/biocbuild/bbs-3.22-bioc/R/bin/R CMD check --install=check:DiffLogo.install-out.txt --library=/home/biocbuild/bbs-3.22-bioc/R/site-library --timings DiffLogo_2.33.0.tar.gz StartedAt: 2025-10-24 23:07:46 -0400 (Fri, 24 Oct 2025) EndedAt: 2025-10-24 23:08:55 -0400 (Fri, 24 Oct 2025) EllapsedTime: 68.0 seconds RetCode: 0 Status: WARNINGS CheckDir: DiffLogo.Rcheck Warnings: 1