Package: DiffLogo Version: 2.33.0 Command: /Library/Frameworks/R.framework/Resources/bin/R CMD INSTALL DiffLogo StartedAt: 2025-10-24 15:13:04 -0400 (Fri, 24 Oct 2025) EndedAt: 2025-10-24 15:13:52 -0400 (Fri, 24 Oct 2025) EllapsedTime: 48.1 seconds RetCode: 0 Status: OK