Package: DiffLogo Version: 2.33.0 Command: /Library/Frameworks/R.framework/Resources/bin/R CMD build --keep-empty-dirs --no-resave-data DiffLogo StartedAt: 2025-10-24 16:52:25 -0400 (Fri, 24 Oct 2025) EndedAt: 2025-10-24 16:53:23 -0400 (Fri, 24 Oct 2025) EllapsedTime: 57.2 seconds RetCode: 0 Status: OK PackageFile: DiffLogo_2.33.0.tar.gz PackageFileSize: 919.2 KiB